BEGIN:VCALENDAR
VERSION:2.0
PRODID:-//Partito Democratico Conegliano - ECPv6.3.3//NONSGML v1.0//EN
CALSCALE:GREGORIAN
METHOD:PUBLISH
X-WR-CALNAME:Partito Democratico Conegliano
X-ORIGINAL-URL:https://partitodemocraticoconegliano.it
X-WR-CALDESC:Eventi per Partito Democratico Conegliano
REFRESH-INTERVAL;VALUE=DURATION:PT1H
X-Robots-Tag:noindex
X-PUBLISHED-TTL:PT1H
BEGIN:VTIMEZONE
TZID:Europe/Rome
BEGIN:DAYLIGHT
TZOFFSETFROM:+0100
TZOFFSETTO:+0200
TZNAME:CEST
DTSTART:20200329T010000
END:DAYLIGHT
BEGIN:STANDARD
TZOFFSETFROM:+0200
TZOFFSETTO:+0100
TZNAME:CET
DTSTART:20201025T010000
END:STANDARD
BEGIN:DAYLIGHT
TZOFFSETFROM:+0100
TZOFFSETTO:+0200
TZNAME:CEST
DTSTART:20210328T010000
END:DAYLIGHT
BEGIN:STANDARD
TZOFFSETFROM:+0200
TZOFFSETTO:+0100
TZNAME:CET
DTSTART:20211031T010000
END:STANDARD
BEGIN:DAYLIGHT
TZOFFSETFROM:+0100
TZOFFSETTO:+0200
TZNAME:CEST
DTSTART:20220327T010000
END:DAYLIGHT
BEGIN:STANDARD
TZOFFSETFROM:+0200
TZOFFSETTO:+0100
TZNAME:CET
DTSTART:20221030T010000
END:STANDARD
END:VTIMEZONE
BEGIN:VEVENT
DTSTART;TZID=Europe/Rome:20220409T150000
DTEND;TZID=Europe/Rome:20220409T170000
DTSTAMP:20260423T002228
CREATED:20220402T133240Z
LAST-MODIFIED:20220402T133240Z
UID:823-1649516400-1649523600@partitodemocraticoconegliano.it
SUMMARY:Violenza di genere e come superarla
DESCRIPTION:
URL:https://partitodemocraticoconegliano.it/evento/violenza-di-genere-e-come-superarla/
LOCATION:Palazzo Sarcinelli\, Via XX Settembre\, Conegliano\, 31015\, Italia
END:VEVENT
BEGIN:VEVENT
DTSTART;TZID=Europe/Rome:20211204T153000
DTEND;TZID=Europe/Rome:20211204T190000
DTSTAMP:20260423T002228
CREATED:20211129T134058Z
LAST-MODIFIED:20211129T171015Z
UID:706-1638631800-1638644400@partitodemocraticoconegliano.it
SUMMARY:Convocazione Congresso del Partito Democratico
DESCRIPTION:Carissim*\, \nè convocata l’Assemblea di Circolo durante la quale si svolgerà il Congresso per il rinnovo dei seguenti organi locali: \n\nSegretario e Assemblea regionale\nSegretario e Assemblea Provinciale\nSegretario e Direttivo di Circolo\n\nIl Congresso avrà luogo sabato 4 dicembre\, presso la sala dell’ex-Informagiovani in piazza San Martino\, con il seguente programma: \nOre 15:30 – Apertura dei lavori\, votazione e insediamento della Presidenza; \nOre 15:45 – Presentazione delle candidature e delle linee programmatiche dei candidati segretario regionale\, provinciale e di circolo; a seguire dibattito; \nOre 16:30 – Costituzione del seggio e inizio operazioni di voto; \nOre 18:30 – Chiusura del seggio; \nOre 18:35 – Spoglio delle schede e proclamazione dei risultati. \nPartecipano al Congresso con diritto di parola e di voto tutti gli iscritti al partito entro il 16 novembre 2021. Coloro che non avessero ancora rinnovato la tessera per il 2021 potranno farlo prima delle operazioni di voto. \nSul nostro sito partitodemocraticoconegliano.it troverete tutte le informazioni sui candidati alla carica di Segretario Regionale e Provinciale e relative mozioni. \nConto sulla partecipazione di tutt* e colgo l’occasione per inviarvi i miei più cari saluti\, \nIl Segretario \nRoberto Dall’Acqua
URL:https://partitodemocraticoconegliano.it/evento/convocazione-congresso-del-partito-democratico/
LOCATION:Ex Informagiovani\, Piazza San Martino\, Conegliano\, 31015
ATTACH;FMTTYPE=image/jpeg:https://partitodemocraticoconegliano.it/wp-content/uploads/2021/11/bandiere-partito-democratico.jpg
END:VEVENT
BEGIN:VEVENT
DTSTART;TZID=Europe/Rome:20210917T090000
DTEND;TZID=Europe/Rome:20210917T130000
DTSTAMP:20260423T002228
CREATED:20210916T130907Z
LAST-MODIFIED:20210916T131005Z
UID:622-1631869200-1631883600@partitodemocraticoconegliano.it
SUMMARY:Gazebo Noi Democratici
DESCRIPTION:Venerdì 17 settembre ci troverete in Corso Mazzini dalle ore 9.00 del mattino. Vi aspettiamo per illustrarvi il nostro programma e confrontarci su idee e proposte per Conegliano.
URL:https://partitodemocraticoconegliano.it/evento/gazebo-noi-democratici/
LOCATION:Gazebo\, Corso Mazzini\, Conegliano\, Italia
END:VEVENT
BEGIN:VEVENT
DTSTART;TZID=Europe/Rome:20210916T203000
DTEND;TZID=Europe/Rome:20210916T223000
DTSTAMP:20260423T002228
CREATED:20210916T121248Z
LAST-MODIFIED:20210916T121248Z
UID:617-1631824200-1631831400@partitodemocraticoconegliano.it
SUMMARY:Confronto tra i candidati al ruolo di Sindaco di Conegliano
DESCRIPTION:Questa sera\, alle 20.30\, presso il Teatro Toniolo in Via Galilei a Conegliano\, Francesca Di Gaspero si confronterà con gli altri candidati che si contendono il ruolo di primo cittadino di Conegliano alle amministrative del prossimo 3-4 ottobre 2021. I posti disponibili sono andati esauriti in poche ore\, ma sarà possibile seguire l’evento in diretta streaming sulla pagina Facebook di Oggi Treviso.
URL:https://partitodemocraticoconegliano.it/evento/confronto-tra-i-candidati-al-ruolo-di-sindaco-di-conegliano/
LOCATION:Teatro Toniolo Via Galilei Conegliano\, Via Galilei\, Conegliano\, Italia
ATTACH;FMTTYPE=image/png:https://partitodemocraticoconegliano.it/wp-content/uploads/2021/09/CONEGLIANO-PUO-21.png
END:VEVENT
BEGIN:VEVENT
DTSTART;TZID=Europe/Rome:20210908T190000
DTEND;TZID=Europe/Rome:20210908T203000
DTSTAMP:20260423T002228
CREATED:20210907T092844Z
LAST-MODIFIED:20210907T093206Z
UID:405-1631127600-1631133000@partitodemocraticoconegliano.it
SUMMARY:Presentazione ufficiale lista
DESCRIPTION:Mercoledì 8 settembre vi aspettiamo numerosi presso la nostra sede di Piazza Calvi per la conferenza stampa e presentazione dei candidati della lista Noi Democratici a sostegno di Francesca Di Gaspero Sindaco. \n  \n 
URL:https://partitodemocraticoconegliano.it/evento/presentazione-ufficiale-lista/
LOCATION:Sede\, Piazza Calvi\, Conegliano\, Italia
ATTACH;FMTTYPE=image/png:https://partitodemocraticoconegliano.it/wp-content/uploads/2021/09/Francesca-evento.png
END:VEVENT
BEGIN:VEVENT
DTSTART;TZID=Europe/Rome:20210906T193000
DTEND;TZID=Europe/Rome:20210906T220000
DTSTAMP:20260423T002228
CREATED:20210905T171805Z
LAST-MODIFIED:20210905T171805Z
UID:390-1630956600-1630965600@partitodemocraticoconegliano.it
SUMMARY:Grigliata conviviale per il finanziamento della campagna elettorale
DESCRIPTION:Vi aspettiamo la sera di lunedì 6 settembre per una grigliata in compagnia della nostra candidata Sindaco Francesca Di Gaspero e dei candidati consiglieri alle prossime elezioni di Conegliano presso la piscina del Magis Sporting club. Sarà un’occasione per conoscerci meglio e raccontarvi il nostro programma. \nCena conviviale con grigliata a buffet:\ncosta\, braciola\, salsiccia\, pollo\, polenta\, patate\, bevande e anguria.\n\nSolo su PRENOTAZIONE chiamando 340 8086811\n\nLa vostra partecipazione è molto importante perché ci consentirà di raccogliere contributi per il finanziamento della campagna elettorale e di questo vi ringraziamo anticipatamente.\n 
URL:https://partitodemocraticoconegliano.it/evento/grigliata-per-finanziamento-campagna-elettorale/
LOCATION:Magis Sporting Club\, Via Pianale 7\, San Pietro di Feletto\, Italia
ATTACH;FMTTYPE=image/png:https://partitodemocraticoconegliano.it/wp-content/uploads/2021/09/Francesca-evento.png
END:VEVENT
BEGIN:VEVENT
DTSTART;TZID=Europe/Rome:20210902T183000
DTEND;TZID=Europe/Rome:20210902T200000
DTSTAMP:20260423T002228
CREATED:20210902T075821Z
LAST-MODIFIED:20210902T082600Z
UID:370-1630607400-1630612800@partitodemocraticoconegliano.it
SUMMARY:Aperitivo con Francesca Di Gaspero
DESCRIPTION:Vi aspettiamo questa sera\, giovedì 2 settembre\, dalle 18\,30 presso il Martini Urban Ristobar\, per incontrare la nostra candidata Sindaco di Conegliano e tutta la coalizione che la sostiene. \nSarà una bella occasione per conoscerci e condividere le nostre idee sulla città. Siamo cittadini come voi\, che amano la propria città e pensano che Conegliano può… molto di più!! \n 
URL:https://partitodemocraticoconegliano.it/evento/aperitivo-con-francesca-di-gaspero/
LOCATION:Martini Urban Ristobar\, Via Pietro Maset 16\, Conegliano\, 31015
ATTACH;FMTTYPE=image/png:https://partitodemocraticoconegliano.it/wp-content/uploads/2021/09/CONEGLIANO-PUO-20.png
END:VEVENT
BEGIN:VEVENT
DTSTART;TZID=Europe/Rome:20200917T210000
DTEND;TZID=Europe/Rome:20200917T223000
DTSTAMP:20260423T002228
CREATED:20200917T124224Z
LAST-MODIFIED:20200917T125435Z
UID:219-1600376400-1600381800@partitodemocraticoconegliano.it
SUMMARY:CHIUSURA CAMPAGNA ELETTORALE
DESCRIPTION:
URL:https://partitodemocraticoconegliano.it/evento/chiusura-della-campagna-elettorale-per-le-regionali-2020-in-veneto/
LOCATION:SALA STENO ZANIN\, STRADELLA INTERNA A\, TREVISO\, Italia
END:VEVENT
BEGIN:VEVENT
DTSTART;TZID=Europe/Rome:20200917T163000
DTEND;TZID=Europe/Rome:20200917T183000
DTSTAMP:20260423T002228
CREATED:20200917T124724Z
LAST-MODIFIED:20200917T124724Z
UID:224-1600360200-1600367400@partitodemocraticoconegliano.it
SUMMARY:CHIUSURA CAMPAGNA ELETTORALE 2020
DESCRIPTION:
URL:https://partitodemocraticoconegliano.it/evento/chiusura-campagna-elettorale-2020/
LOCATION:Bistrò San Giustino\, Via F. M. Preti\, CASTELFRANCO\, Italia
END:VEVENT
BEGIN:VEVENT
DTSTART;TZID=Europe/Rome:20200915T183000
DTEND;TZID=Europe/Rome:20200915T200000
DTSTAMP:20260423T002228
CREATED:20200914T070012Z
LAST-MODIFIED:20200917T123430Z
UID:210-1600194600-1600200000@partitodemocraticoconegliano.it
SUMMARY:APERITIVO CON I CANDIDATI CONSIGLIERI REGIONALI
DESCRIPTION:
URL:https://partitodemocraticoconegliano.it/evento/aperitivo-con-i-candidati-consiglieri-regionali/
LOCATION:BAR RADIO GOLDEN\, PIAZZA SAN MARTINO\, CONEGLIANO\, Italia
END:VEVENT
END:VCALENDAR