BEGIN:VCALENDAR
VERSION:2.0
PRODID:-//Partito Democratico Conegliano - ECPv6.3.3//NONSGML v1.0//EN
CALSCALE:GREGORIAN
METHOD:PUBLISH
X-ORIGINAL-URL:https://partitodemocraticoconegliano.it
X-WR-CALDESC:Eventi per Partito Democratico Conegliano
REFRESH-INTERVAL;VALUE=DURATION:PT1H
X-Robots-Tag:noindex
X-PUBLISHED-TTL:PT1H
BEGIN:VTIMEZONE
TZID:Europe/Rome
BEGIN:DAYLIGHT
TZOFFSETFROM:+0100
TZOFFSETTO:+0200
TZNAME:CEST
DTSTART:20230326T010000
END:DAYLIGHT
BEGIN:STANDARD
TZOFFSETFROM:+0200
TZOFFSETTO:+0100
TZNAME:CET
DTSTART:20231029T010000
END:STANDARD
END:VTIMEZONE
BEGIN:VEVENT
DTSTART;TZID=Europe/Rome:20230313T203000
DTEND;TZID=Europe/Rome:20230313T230000
DTSTAMP:20260423T001409
CREATED:20230426T154113Z
LAST-MODIFIED:20230426T154113Z
UID:926-1678739400-1678748400@partitodemocraticoconegliano.it
SUMMARY:Assemblea aperta dei Circoli del coneglianese
DESCRIPTION:Lunedì 13 marzo\, assemblea aperta dei circoli del coneglianese presso la Sala proiezioni dell’Auditorium “Dina Orsi” dalle 20:30.\nPer parlare insieme dell’esito delle primarie e dei suoi sviluppi. \nVi aspettiamo!
URL:https://partitodemocraticoconegliano.it/evento/assemblea-aperta-dei-circoli-del-coneglianese/
LOCATION:Auditorium “Dina Orsi” – Sala Proiezioni\, Via Einaudi\, 136\, Conegliano\, Treviso\, 31015\, Italia
END:VEVENT
BEGIN:VEVENT
DTSTART;TZID=Europe/Rome:20230414T210000
DTEND;TZID=Europe/Rome:20230414T230000
DTSTAMP:20260423T001409
CREATED:20230426T153348Z
LAST-MODIFIED:20230426T153348Z
UID:921-1681506000-1681513200@partitodemocraticoconegliano.it
SUMMARY:Che ne sarà della sanità pubblica?
DESCRIPTION:Ci ritroviamo per discutere della nostra sanità e del suo futuro.\nCi vediamo venerdì 14 aprile\, ore 20:45 presso la Sala Proiezioni c/o l’Auditorium “Dina Orsi”\nLo facciamo con:\n\nClaudio Beltramello\, referente gruppo Sanità e Sociale del PD Veneto;\nMariarosa Barazza\, Sindaco di Cappella Maggiore;\nMarta Casarin\, Segreteria generale Funzione Pubblica CGIL Treviso\nMario De Boni\, Segretario generale Funzione Pubblica CISL Belluno Treviso\n\nModera l’incontro Isabella Gianelloni
URL:https://partitodemocraticoconegliano.it/evento/che-ne-sara-della-sanita-pubblica/
LOCATION:Auditorium “Dina Orsi” – Sala Proiezioni\, Via Einaudi\, 136\, Conegliano\, Treviso\, 31015\, Italia
END:VEVENT
BEGIN:VEVENT
DTSTART;TZID=Europe/Rome:20230427T190000
DTEND;TZID=Europe/Rome:20230427T210000
DTSTAMP:20260423T001409
CREATED:20230426T155217Z
LAST-MODIFIED:20230426T155217Z
UID:931-1682622000-1682629200@partitodemocraticoconegliano.it
SUMMARY:Consiglio Comunale
DESCRIPTION:Giovedì 27 aprile\, dalle ore 19:00\, si terrà il Consiglio Comunale con il seguente ordine del giorno: \n\n\n\n\nInterpellanza (prot. 23051 del 19.04.2023) del Consigliere Di Gaspero (Noi Democratici) in merito allo spostamento della scuola primaria San Francesco.\nInterpellanza (prot. 23059 del 19.04.2023) del Consigliere Di Gaspero (Noi Democratici) in merito al percorso di avvio di progettazione della futura Piazza Carducci.\nPiano di Assetto del Territorio (PAT) Variante n. 3 – Adeguamento al Piano Territoriale Regionale di Coordinamento (PTRC). Approvazione.\nConvenzione di edilizia produttiva in deroga allo strumento urbanistico ai sensi dell’art. 3 della L.R. 31.12.2012\, n. 55 e della D.G.R.V. n. 2045 del 19.11.2013 – Linee di indirizzo.\nPatto dei Sindaci per il Clima e l’Energia. Approvazione del Piano d’Azione per l’Energia Sostenibile ed il Clima (PAESC).\nRendiconto esercizio finanziario 2022 ed allegati. Approvazione.\nNote di variazione al Documento Unico di Programmazione (DUP) 2023-2025. Approvazione.\nVariazione al Bilancio di Previsione 2023-2025. Approvazione.\nEstinzione anticipata al 30.06.2023 mutui contratti con Cassa Depositi e Prestiti Spa – posizioni\ndiverse.\n\n\n\n\nInvitiamo tutti a partecipare!
URL:https://partitodemocraticoconegliano.it/evento/consiglio-comunale/
LOCATION:Sala Consiliare\, Piazza Cima\, 8\, Conegliano\, Treviso\, 31015\, Italia
END:VEVENT
BEGIN:VEVENT
DTSTART;TZID=Europe/Rome:20230505T203000
DTEND;TZID=Europe/Rome:20230505T230000
DTSTAMP:20260423T001409
CREATED:20230502T203235Z
LAST-MODIFIED:20230502T203235Z
UID:956-1683318600-1683327600@partitodemocraticoconegliano.it
SUMMARY:Territorio UNESCO: opportunità per Conegliano\, tra sentieri storici e nuovi percorsi ciclopedonali
DESCRIPTION:Evento organizzato dal Circolo Culturale di Conegliano in collaborazione con Giorgio Carlet\, componente del nostro direttivo che presenterà il progetto “Sentieri storici”.
URL:https://partitodemocraticoconegliano.it/evento/territorio-unesco-opportunita-per-conegliano-tra-sentieri-storici-e-nuovi-percorsi-ciclopedonali/
LOCATION:Sala comunale di Campolongo\, Via Vital\, 160\, Conegliano\, Treviso\, 31015\, Italia
END:VEVENT
BEGIN:VEVENT
DTSTART;TZID=Europe/Rome:20230921T210000
DTEND;TZID=Europe/Rome:20230921T230000
DTSTAMP:20260423T001409
CREATED:20230915T123452Z
LAST-MODIFIED:20230917T175628Z
UID:1027-1695330000-1695337200@partitodemocraticoconegliano.it
SUMMARY:Direttivo di Circolo
DESCRIPTION:Direttivo di Circolo\nIl Direttivo del Partito Democratico di Conegliano si ritrova alle ore 20:45 con il seguente ordine del giorno: \n\nIncontro pubblico con Boeri;\nAttività in programma e gruppi di lavoro;\nProssimi gazebo in città;\nTesseramento;\nVarie ed eventuali\n\nTutti gli iscritti al partito sono invitati a partecipare. \n  \n   Il Segretario \nMichele Matera
URL:https://partitodemocraticoconegliano.it/evento/direttivo-di-circolo/
LOCATION:Auditorium “Dina Orsi” – Sala Proiezioni\, Via Einaudi\, 136\, Conegliano\, Treviso\, 31015\, Italia
END:VEVENT
BEGIN:VEVENT
DTSTART;TZID=Europe/Rome:20230922T204500
DTEND;TZID=Europe/Rome:20230922T223000
DTSTAMP:20260423T001409
CREATED:20230919T083509Z
LAST-MODIFIED:20230919T083509Z
UID:1054-1695415500-1695421800@partitodemocraticoconegliano.it
SUMMARY:AUTONOMIA DIFFERENZIATA: LA NOSTRA PROPOSTA
DESCRIPTION:Venerdì 22 settembre\, ore 20:45\, a Codognè\, “Autonomia differenziata: la nostra proposta“\, incontro pubblico organizzato dal Coordinamento dei Circoli PD del Coneglianese\, con ANDREA MARTELLA\, senatore e segretario PD Veneto. \n 
URL:https://partitodemocraticoconegliano.it/evento/autonomia-differenziata-la-nostra-proposta/
LOCATION:Codognè\, Via Roma 4\, Codognè\, 31013\, Italia
ATTACH;FMTTYPE=image/jpeg:https://partitodemocraticoconegliano.it/wp-content/uploads/2023/09/Martella.jpeg
END:VEVENT
BEGIN:VEVENT
DTSTART;TZID=Europe/Rome:20230928T190000
DTEND;TZID=Europe/Rome:20230928T210000
DTSTAMP:20260423T001409
CREATED:20230915T123026Z
LAST-MODIFIED:20230925T173516Z
UID:1018-1695927600-1695934800@partitodemocraticoconegliano.it
SUMMARY:Consiglio Comunale
DESCRIPTION:Gli argomenti all’ordine del giorno sono i seguenti: \n1. Variante parziale al Piano degli Interventi ai sensi dell’art. 7 della L.R. 16/03/2015\, n. 4 – variante verde 2023 – riclassificazione di aree edificabili – Approvazione. \n2. Realizzazione di viabilità alternativa funzionale alla chiusura dei passaggi a livello al Km 7+469 (via Prezzivalli) – Km 7+713 (via Contesse) – Km 8+035 (via Deganutti) della linea ferroviaria Conegliano – Ponte nelle Alpi. CUP H21B23000090005. Approvazione di variante urbanistica ai sensi dell’art. 24 della L.R. 7 novembre 2003\, n. 27 con apposizione del vincolo preordinato all’esproprio. \n3. Intervento di riqualificazione del tessuto edilizio ubicato tra via Colombo e Piazza P.F. Calvi ai sensi degli artt. 7 L.R. n.14/2019 “Veneto 2050” e 28-bis D.P.R. n.380/2001. Approvazione schema convenzione e linee indirizzo. \n4. Bilancio Consolidato esercizio 2022. Approvazione. \n5. Verifica dello stato attuazione dei programmi del Documento Unico di Programmazione (DUP) 2023/2025 alla data del 15/09/2023 e note di variazione. Approvazione. \n6. Variazione al Bilancio di Previsione 2023-2025. Approvazione. \n7. Approvazione del Documento Unico di Programmazione (DUP) 2024/2026. \n\n\n\n8. Stazione Unica Appaltante – Adesione alla proposta della Provincia di Treviso. Approvazione schema di convenzione. \n9. Piano Nazionale di Ripresa e Resilienza – PNRR\, Misura 1.7.2 – Missione 1\, Componente 1\, Asse 1: Approvazione schema di convenzione ex art. 30 del D.Lgs. 267/2000 per la disciplina dei rapporti e per l’adesione al Progetto “Rete di Servizi di Facilitazione Digitale” in attuazione della DGRV n. 364 del 7 aprile 2023. \n10. Mozione (prot. n. 50893 del 13.09.2023) del Consigliere Bortoluzzi (Gruppo Misto) per un aggiornamento ed una migliore definizione degli obiettivi di pianificazione dell’ambito già interessato dagli insediamenti industriali “Zanussi”.
URL:https://partitodemocraticoconegliano.it/evento/consiglio-comunale-2/
LOCATION:Sala Consiliare\, Piazza Cima\, 8\, Conegliano\, Treviso\, 31015\, Italia
END:VEVENT
BEGIN:VEVENT
DTSTART;TZID=Europe/Rome:20231006T090000
DTEND;TZID=Europe/Rome:20231006T123000
DTSTAMP:20260423T001409
CREATED:20231006T161259Z
LAST-MODIFIED:20231006T161259Z
UID:1064-1696582800-1696595400@partitodemocraticoconegliano.it
SUMMARY:PD in Piazza
DESCRIPTION:Il Circolo PD di Conegliano sarà in piazza con il proprio gazebo a sostegno della proposta di legge sul Salario minimo. \nNon finisce il nostro impegno per la raccolta firme indirizzata al nostro Presidente\, Luca Zaia\, perchè intervenga urgentemente sulla sanità pubblica e su tutte le sue carenze. \nVi aspettiamo! \nCi troverai sotto la Galleria “Dalla Zentil” dalle 9:00 alle 12:30
URL:https://partitodemocraticoconegliano.it/evento/pd-in-piazza/
LOCATION:Gazebo\, Corso Mazzini\, Conegliano\, Italia
END:VEVENT
BEGIN:VEVENT
DTSTART;TZID=Europe/Rome:20231007T090000
DTEND;TZID=Europe/Rome:20231007T123000
DTSTAMP:20260423T001409
CREATED:20231006T161500Z
LAST-MODIFIED:20231006T161500Z
UID:1066-1696669200-1696681800@partitodemocraticoconegliano.it
SUMMARY:PD in Piazza
DESCRIPTION:Il Circolo PD di Conegliano sarà in piazza con il proprio gazebo a sostegno della proposta di legge sul Salario minimo. \nNon finisce il nostro impegno per la raccolta firme indirizzata al nostro Presidente\, Luca Zaia\, perchè intervenga urgentemente sulla sanità pubblica e su tutte le sue carenze. \nVi aspettiamo! \nCi troverai vicino alla Fontana del cavalli dalle 9:00 alle 12.30.
URL:https://partitodemocraticoconegliano.it/evento/pd-in-piazza-2/
LOCATION:Gazebo\, Corso Mazzini\, Conegliano\, Italia
END:VEVENT
END:VCALENDAR